BEGIN:VCALENDAR
VERSION:2.0
PRODID:-//hacksw/handcal//NONSGML v1.0//EN
CALSCALE:GREGORIAN
BEGIN:VEVENT
LOCATION:Drs. Sylvia and Richard Cruess Amphitheatre (ES1.1129)
DESCRIPTION:The first IDIGH and CRP programs joint research day! // More information: https://www.idigh.ca/en/events/info/scientific-events/research-day-2025
DTSTART:20250514T123000Z
DTEND:20250514T220000Z
SUMMARY:IDIGH (Scientific Events) - IDIGH and CRP programs joint Research Day 2025
URL;VALUE=URI:https://www.idigh.ca/en/events/info/scientific-events/research-day-2025
DTSTAMP:20260419T084638Z
UID:69e4ceae034c2
END:VEVENT
END:VCALENDAR