BEGIN:VCALENDAR
VERSION:2.0
PRODID:-//hacksw/handcal//NONSGML v1.0//EN
CALSCALE:GREGORIAN
BEGIN:VEVENT
LOCATION:EM1.3509
DESCRIPTION:Ouvert à tout le personnel et aux stagiaires IDIGH (nouveaux et actuels) // Plus d'informations : https://www.idigh.ca/fr/evenements/info/activites-sociales/evenement-de-bienvenue-idigh-2025
DTSTART:20250918T160000Z
DTEND:20250918T170000Z
SUMMARY:IDIGH (Activités sociales) - Événement de bienvenue IDIGH 2025
URL;VALUE=URI:https://www.idigh.ca/fr/evenements/info/activites-sociales/evenement-de-bienvenue-idigh-2025
DTSTAMP:20260419T131526Z
UID:69e50daedd2bf
END:VEVENT
END:VCALENDAR