BEGIN:VCALENDAR
VERSION:2.0
PRODID:-//hacksw/handcal//NONSGML v1.0//EN
CALSCALE:GREGORIAN
BEGIN:VEVENT
LOCATION:EM1.3509
DESCRIPTION:Attenuated Salmonella typhimurium as a vector for a novel Clostridium difficile vaccine // More information: https://www.idigh.ca/en/events/info/trainee-and-staff-seminar-series/kaitlin-winter-2
DTSTART:20170417T160000Z
DTEND:20170417T170000Z
SUMMARY:IDIGH (Trainee and Staff Seminar Series) - Kaitlin Winter
URL;VALUE=URI:https://www.idigh.ca/en/events/info/trainee-and-staff-seminar-series/kaitlin-winter-2
DTSTAMP:20260420T023527Z
UID:69e5c92f60443
END:VEVENT
END:VCALENDAR