BEGIN:VCALENDAR
VERSION:2.0
PRODID:-//hacksw/handcal//NONSGML v1.0//EN
CALSCALE:GREGORIAN
BEGIN:VEVENT
LOCATION:EM1.3509
DESCRIPTION:Attenuated Salmonella typhimurium as a vector for a novel Clostridium difficile vaccine // Plus d'informations : https://www.idigh.ca/fr/evenements/info/seminaires-des-stagiaires-et-professionnels/kaitlin-winter-2017
DTSTART:20170417T160000Z
DTEND:20170417T170000Z
SUMMARY:IDIGH (Séminaires des stagiaires et professionnels) - Kaitlin Winter 
URL;VALUE=URI:https://www.idigh.ca/fr/evenements/info/seminaires-des-stagiaires-et-professionnels/kaitlin-winter-2017
DTSTAMP:20260420T023412Z
UID:69e5c8e42b83b
END:VEVENT
END:VCALENDAR