BEGIN:VCALENDAR
VERSION:2.0
PRODID:-//hacksw/handcal//NONSGML v1.0//EN
CALSCALE:GREGORIAN
BEGIN:VEVENT
LOCATION:EM1.3509
DESCRIPTION:The Card9/GM-CSF Axis in Immunity to C. albicans // Plus d'informations : https://www.idigh.ca/fr/evenements/info/seminaires-des-stagiaires-et-professionnels/marija-landekic-2
DTSTART:20171206T170000Z
DTEND:20171206T180000Z
SUMMARY:IDIGH (Séminaires des stagiaires et professionnels) - Marija Landekic 
URL;VALUE=URI:https://www.idigh.ca/fr/evenements/info/seminaires-des-stagiaires-et-professionnels/marija-landekic-2
DTSTAMP:20260422T145444Z
UID:69e9197490a8f
END:VEVENT
END:VCALENDAR