BEGIN:VCALENDAR
VERSION:2.0
PRODID:-//hacksw/handcal//NONSGML v1.0//EN
CALSCALE:GREGORIAN
BEGIN:VEVENT
LOCATION:En ligne
DESCRIPTION:Mechanisms of early life RSV infection-mediated enhancement of Type 2 allergic lung inflammation // Plus d'informations : https://www.idigh.ca/fr/evenements/info/seminaires-des-stagiaires-et-professionnels/lydia-labrie-2020
DTSTART:20201209T170000Z
DTEND:20201209T180000Z
SUMMARY:IDIGH (Séminaires des stagiaires et professionnels) - Lydia Labrie 
URL;VALUE=URI:https://www.idigh.ca/fr/evenements/info/seminaires-des-stagiaires-et-professionnels/lydia-labrie-2020
DTSTAMP:20260422T065045Z
UID:69e8a805b7dc8
END:VEVENT
END:VCALENDAR