BEGIN:VCALENDAR
VERSION:2.0
PRODID:-//hacksw/handcal//NONSGML v1.0//EN
CALSCALE:GREGORIAN
BEGIN:VEVENT
LOCATION:En ligne
DESCRIPTION:Impact of COVID-19 on antibiotic and HCQ sales in India // Plus d'informations : https://www.idigh.ca/fr/evenements/info/seminaires-des-stagiaires-et-professionnels/giorgia-sulis
DTSTART:20210224T170000Z
DTEND:20210224T180000Z
SUMMARY:IDIGH (Séminaires des stagiaires et professionnels) - Giorgia Sulis 
URL;VALUE=URI:https://www.idigh.ca/fr/evenements/info/seminaires-des-stagiaires-et-professionnels/giorgia-sulis
DTSTAMP:20260422T065214Z
UID:69e8a85e902ac
END:VEVENT
END:VCALENDAR