BEGIN:VCALENDAR
VERSION:2.0
PRODID:-//hacksw/handcal//NONSGML v1.0//EN
CALSCALE:GREGORIAN
BEGIN:VEVENT
LOCATION:En ligne
DESCRIPTION:Functional Dynamics of Regulatory T cells Upon PD1- Blockade // Plus d'informations : https://www.idigh.ca/fr/evenements/info/seminaires-des-stagiaires-et-professionnels/mikhael-attias-2021
DTSTART:20210421T160000Z
DTEND:20210421T170000Z
SUMMARY:IDIGH (Séminaires des stagiaires et professionnels) - Mikhaël Attias 
URL;VALUE=URI:https://www.idigh.ca/fr/evenements/info/seminaires-des-stagiaires-et-professionnels/mikhael-attias-2021
DTSTAMP:20260420T103926Z
UID:69e63a9e4d173
END:VEVENT
END:VCALENDAR