BEGIN:VCALENDAR
VERSION:2.0
PRODID:-//hacksw/handcal//NONSGML v1.0//EN
CALSCALE:GREGORIAN
BEGIN:VEVENT
LOCATION:En ligne
DESCRIPTION:Blunted transcriptional response to Mycobacterium tuberculosis of alveolar macrophages from persons living with HIV // Plus d'informations : https://www.idigh.ca/fr/evenements/info/seminaires-des-stagiaires-et-professionnels/wilian-correa-de-macedo-2021
DTSTART:20210505T160000Z
DTEND:20210505T170000Z
SUMMARY:IDIGH (Séminaires des stagiaires et professionnels) - Wilian Correa de Macedo 
URL;VALUE=URI:https://www.idigh.ca/fr/evenements/info/seminaires-des-stagiaires-et-professionnels/wilian-correa-de-macedo-2021
DTSTAMP:20260422T045056Z
UID:69e88bf006f2f
END:VEVENT
END:VCALENDAR