BEGIN:VCALENDAR
VERSION:2.0
PRODID:-//hacksw/handcal//NONSGML v1.0//EN
CALSCALE:GREGORIAN
BEGIN:VEVENT
LOCATION:Online
DESCRIPTION:The role of elF4E in CD4+ T Cell Differentiation and Function // More information: https://www.idigh.ca/en/events/info/trainee-and-staff-seminar-series/roman-istomine
DTSTART:20210602T160000Z
DTEND:20210602T170000Z
SUMMARY:IDIGH (Trainee and Staff Seminar Series) - Roman Istomine
URL;VALUE=URI:https://www.idigh.ca/en/events/info/trainee-and-staff-seminar-series/roman-istomine
DTSTAMP:20260422T045026Z
UID:69e88bd28b0cb
END:VEVENT
END:VCALENDAR