BEGIN:VCALENDAR
VERSION:2.0
PRODID:-//hacksw/handcal//NONSGML v1.0//EN
CALSCALE:GREGORIAN
BEGIN:VEVENT
LOCATION:En ligne
DESCRIPTION:The role of elF4E in CD4+ T Cell Differentiation and Function // Plus d'informations : https://www.idigh.ca/fr/evenements/info/seminaires-des-stagiaires-et-professionnels/roman-istomine
DTSTART:20210602T160000Z
DTEND:20210602T170000Z
SUMMARY:IDIGH (Séminaires des stagiaires et professionnels) - Roman Istomine 
URL;VALUE=URI:https://www.idigh.ca/fr/evenements/info/seminaires-des-stagiaires-et-professionnels/roman-istomine
DTSTAMP:20260422T064902Z
UID:69e8a79ed79ea
END:VEVENT
END:VCALENDAR