BEGIN:VCALENDAR
VERSION:2.0
PRODID:-//hacksw/handcal//NONSGML v1.0//EN
CALSCALE:GREGORIAN
BEGIN:VEVENT
LOCATION:En ligne
DESCRIPTION:Évaluer l'impact de RIPK3 sur la réponse immunitaire dans un modèle murin induit de lupus érythémateux disséminé // Plus d'informations : https://www.idigh.ca/fr/evenements/info/seminaires-des-stagiaires-et-professionnels/celeste-pilon-2022
DTSTART:20220525T160000Z
DTEND:20220525T170000Z
SUMMARY:IDIGH (Séminaires des stagiaires et professionnels) - Céleste Pilon
URL;VALUE=URI:https://www.idigh.ca/fr/evenements/info/seminaires-des-stagiaires-et-professionnels/celeste-pilon-2022
DTSTAMP:20260422T062409Z
UID:69e8a1c910c23
END:VEVENT
END:VCALENDAR