BEGIN:VCALENDAR
VERSION:2.0
PRODID:-//hacksw/handcal//NONSGML v1.0//EN
CALSCALE:GREGORIAN
BEGIN:VEVENT
LOCATION:EM1.3509 and online
DESCRIPTION:Evaluating T cells in a context of B cell deficiency: Lessons learnt from studying experiments of nature // More information: https://www.idigh.ca/en/events/info/trainee-and-staff-seminar-series/aunonna-kabir
DTSTART:20221130T170000Z
DTEND:20221130T180000Z
SUMMARY:IDIGH (Trainee and Staff Seminar Series) - Aunonna Kabir
URL;VALUE=URI:https://www.idigh.ca/en/events/info/trainee-and-staff-seminar-series/aunonna-kabir
DTSTAMP:20260422T063443Z
UID:69e8a4438c751
END:VEVENT
END:VCALENDAR