BEGIN:VCALENDAR
VERSION:2.0
PRODID:-//hacksw/handcal//NONSGML v1.0//EN
CALSCALE:GREGORIAN
BEGIN:VEVENT
LOCATION:EM1.3509 and online
DESCRIPTION:Immunometabolism and Autophagy: Influence of the Acyl-CoA-Binding Protein in HIV and COVID-19 // More information: https://www.idigh.ca/en/events/info/trainee-and-staff-seminar-series/stephane-isnard
DTSTART:20230125T170000Z
DTEND:20230125T180000Z
SUMMARY:IDIGH (Trainee and Staff Seminar Series) - Stephane Isnard
URL;VALUE=URI:https://www.idigh.ca/en/events/info/trainee-and-staff-seminar-series/stephane-isnard
DTSTAMP:20260422T064552Z
UID:69e8a6e0e8944
END:VEVENT
END:VCALENDAR