BEGIN:VCALENDAR
VERSION:2.0
PRODID:-//hacksw/handcal//NONSGML v1.0//EN
CALSCALE:GREGORIAN
BEGIN:VEVENT
LOCATION:EM1.3509 et en ligne
DESCRIPTION:Cardiometabolic Effects of Hepatitis C Virus // Plus d'informations : https://www.idigh.ca/fr/evenements/info/seminaires-des-stagiaires-et-professionnels/wesal-elgretli
DTSTART:20230111T170000Z
DTEND:20230111T180000Z
SUMMARY:IDIGH (Séminaires des stagiaires et professionnels) - Wesal Elgretli
URL;VALUE=URI:https://www.idigh.ca/fr/evenements/info/seminaires-des-stagiaires-et-professionnels/wesal-elgretli
DTSTAMP:20260422T064431Z
UID:69e8a68fe5917
END:VEVENT
END:VCALENDAR