BEGIN:VCALENDAR
VERSION:2.0
PRODID:-//hacksw/handcal//NONSGML v1.0//EN
CALSCALE:GREGORIAN
BEGIN:VEVENT
LOCATION:EM1.3509
DESCRIPTION: // More information: https://www.idigh.ca/en/events/info/scientific-events/literature-review
DTSTART:20241129T183000Z
DTEND:20241129T200000Z
SUMMARY:IDIGH (Scientific Events) - Literature Review Workshop
URL;VALUE=URI:https://www.idigh.ca/en/events/info/scientific-events/literature-review
DTSTAMP:20260423T235046Z
UID:69eae896e0542
END:VEVENT
END:VCALENDAR